BEGIN:VCALENDAR
VERSION:2.0
PRODID:-//www.walliswil-bipp.ch//NONSGML kigkonsult.se ICALCREATOR_VERSION/
 /
CALSCALE:GREGORIAN
METHOD:PUBLISH
X-WR-TIMEZONE','EUROPE/BERLIN:
BEGIN:VEVENT
UID:20260419T183315CEST-6485uDrl8V@www.walliswil-bipp.ch
DTSTAMP:20260419T163315Z
DESCRIPTION:Klicken Sie auf den folgenden Link\, um weitere Informationen z
 ur Veranstaltung zu erhalten:\nhttp://www.walliswil-bipp.ch/walliswil-bipp
 /veranstaltungen/detail/detail.php?i=78
DTSTART:20241211T183000
DTEND:20241211T210000
LOCATION:Salzhaus
SUMMARY:Projekt A1 Luterbach-Härkingen - Informationsanlass
END:VEVENT
END:VCALENDAR
