BEGIN:VCALENDAR
VERSION:2.0
PRODID:-//www.walliswil-bipp.ch//NONSGML kigkonsult.se ICALCREATOR_VERSION/
 /
CALSCALE:GREGORIAN
METHOD:PUBLISH
X-WR-TIMEZONE','EUROPE/BERLIN:
BEGIN:VEVENT
UID:20260419T171055CEST-4681LVe2cA@www.walliswil-bipp.ch
DTSTAMP:20260419T151055Z
DESCRIPTION:Klicken Sie auf den folgenden Link\, um weitere Informationen z
 ur Veranstaltung zu erhalten:\nhttp://www.walliswil-bipp.ch/walliswil-bipp
 /veranstaltungen/detail/detail.php?i=77
DTSTART:20241105T140000
DTEND:20241105T170000
LOCATION:Pfarreisaal der kath. Kirche Wangen a/A
SUMMARY:Zvierihöck Plus
END:VEVENT
END:VCALENDAR
