BEGIN:VCALENDAR
VERSION:2.0
PRODID:-//www.walliswil-bipp.ch//NONSGML kigkonsult.se ICALCREATOR_VERSION/
 /
CALSCALE:GREGORIAN
METHOD:PUBLISH
X-WR-TIMEZONE','EUROPE/BERLIN:
BEGIN:VEVENT
UID:20260419T171118CEST-9763bbWufJ@www.walliswil-bipp.ch
DTSTAMP:20260419T151118Z
DESCRIPTION:Klicken Sie auf den folgenden Link\, um weitere Informationen z
 ur Veranstaltung zu erhalten:\nhttp://www.walliswil-bipp.ch/walliswil-bipp
 /veranstaltungen/detail/detail.php?i=75
DTSTART:20241030T180000
DTEND:20241030T193000
LOCATION:Städtli und Zeughaus 1+2
SUMMARY:Städtlimarsch
END:VEVENT
END:VCALENDAR
