BEGIN:VCALENDAR
VERSION:2.0
PRODID:-//www.walliswil-bipp.ch//NONSGML kigkonsult.se ICALCREATOR_VERSION/
 /
CALSCALE:GREGORIAN
METHOD:PUBLISH
X-WR-TIMEZONE','EUROPE/BERLIN:
BEGIN:VEVENT
UID:20260419T180356CEST-1070CfFChR@www.walliswil-bipp.ch
DTSTAMP:20260419T160356Z
DESCRIPTION:Klicken Sie auf den folgenden Link\, um weitere Informationen z
 ur Veranstaltung zu erhalten:\nhttp://www.walliswil-bipp.ch/de/veranstaltu
 ngen/detail/detail.php?i=158
DTSTART:20260509T140000
DTEND:20260509T200000
LOCATION:Salzhaus
SUMMARY:Wangener Genussmesse 2026
END:VEVENT
END:VCALENDAR
